Workbook
Name County: #REF!

Sheet Instructions
B1: State of California - Health and Human Services Agency | O1: Department of Health Care Services
B2: Substance Use Prevention, Treatment, and Recovery Services Block Grant | R2: v1.2026
B4: SUBG GENERAL ALLOCATION WORKBOOK CONTENTS
B5: Allocation Sheet: This sheet contains details on the county's annual allocations for State Fiscal Year (SFY) 2026-27 or 2027-28.
B6: Subcontractor List: This sheet collects information on each subcontractor receiving SUBG funds. This sheet is to be completed by the county.
B7: Program Tabs (1-12): These sheets are the individual program budgets and are to be completed by the county.
B8: Summary: This sheet summarizes the budget details from program tabs.
B9: Note: Complete one General Allocation Budget Workbook per SFY. Lable each workbook with the appropriate SFY, in the following format:
B10: County Name_SFY 2026-27_General Allocation Workbook.
B12: ALLOCATION SHEET
B13: This sheet contains the county's allocation and set-aside amounts for the state fiscal year indicated.
B14: If the county does not have a certified Indirect Cost Rate (ICR) on record with the Department of Health Care Services (DHCS), the county must enter a de minimus rate of up to 15%.
B15: For more information, see DHCS Behavioral Health Information Notice No. 24-047, December 2024.
B17: SUBCONTRACTOR LIST INSTRUCTIONS
... B35: The following American Society of Addiction Medicine (ASAM) Levels of Care may be used:
C36: Level 1: Outpatient
C37: Level 2: Intensive Outpatient/High-Intensity Outpatient
C38: Level 3: Residential
C39: Level 4: Inpatient
C40: Recovery residence
C41: Other: Please describe
B42: For more information on the ASAM Levels of Care, see https://www.asam.org/asam-criteria/about-the-asam-criteria
B44: Target Population: Enter the Target Population(s) that best reflects what the subcontractor provides. Only include populations from this list, separated with a comma.
C45: Pregnant women
C46: Women with dependent children
C47: Persons experiencing homelessness
C48: Persons who inject drugs
C49: Persons in need of recovery support services for substance use disorder
C50: Individuals with a co-occurring mental health and substance use disorder
B52: PROGRAM TAB INSTRUCTIONS
B53: Please note: Upon receipt of the budget for each program, DHCS will review, approve, and return to the county a copy of the approved budget.
B54: The county may be required to revise the budget prior to approval. Please respond to DHCS communications about revisions as soon as possible.
B55: General Instructions:
B56: Please complete one budget per program/contractor. Each program/contractor budget should go in its own tab (Program 1, Program 2, and so on).
B57: If your county has more than one SUBG-funded program, all budgets should be included in one Excel workbook.
B58: Do not alter formulas or formatting. Do not create additional tabs or add lines within the spreadsheets.
B59: If the county requires additional lines in the workbook (e.g., additional staff positions), please contact SUBG@dhcs.ca.gov.
B60: If the county requires additional program tabs (e.g., more than 12 programs are funded by SUBG), please contact SUBG@dhcs.ca.gov.
B61: Only enter data in yellow cells.
B62: For questions or concerns about the application, including issues with formulas or formatting, please contact SUBG@dhcs.ca.gov as soon as possible.
...

Sheet Allocation Sheet
B1: State of California - Health and Human Services Agency | E1: Department of Health Care Services
B2: Substance Use Prevention, Treatment, and Recovery Services Block Grant | E2: v1
B4: FEDERAL GRANT PROPOSED ALLOCATION
B5: State Fiscal Years 2026 - 2028
B6: Type of Grant | C6: Substance Use Prevention, Treatment, and Recovery Services Block Grant
B7: County | C7: Alameda
B8: Current ICR | C8: 0.1
C10: Set Aside | D10: SFY 2026-27
C11: Discretionary | D11: =VLOOKUP(C7,'[1]SFY 2026-27'!$A$3:$E$61,2,FALSE) -> 4890254
C12: Perinatal | D12: =VLOOKUP(C7,'[1]SFY 2026-27'!$A$3:$E$61,4,FALSE) -> 1532698
C13: Adolescent/Youth | D13: =VLOOKUP(C7,'[1]SFY 2026-27'!$A$3:$E$61,5,FALSE) -> 412130
C14: Total Proposed Allocation | D14: =SUM(D11:D13) -> 6835082
C16: Important notes:
C17: Discretionary Set-Aside funds: Counties may allocate Discretionary funds toward Prevention programs that are approved through the Prevention Youth Branch (PYB) Team.

Sheet Subcontractor List
B1: State of California - Health and Human Services Agency | L1: Department of Health Care Services
B2: Substance Use Prevention, Treatment, and Recovery Services Block Grant (SUBG)
B3: County Subcontractor List | N3: Reference List Include only the following selections, separated by comma. Levels of Care: Level 1: Outpatient Level 2: Intensive Outpatient/High-Intensity Outpatient Level 3: Residential Level 4: Inpatient Recovery residence Other: Please describe Target Populations: Pregnant women Women with dependent children Persons experiencing homelessness Persons who inject drugs Persons in need of recovery support services for substance use disorder Individuals with a co-occurring mental health and substance use disorder
B5: County | C5: # | D5: Program Name | E5: Subcontractor Full Legal Name | F5: Subcontractor Address | G5: City | H5: State | I5: Zip Code | J5: Phone Number (XXX-XXX-XXXX) | K5: Level of Care (include from reference list, separated by comma) | L5: Target Population (include from reference list, separated by comma)
B6: Alameda | C6: 1 | D6: Outpatient and Residential Substance Use Treatment Programs and Recovery Residences Perinatal Adult Substance Use Treatment Programs | E6: Alameda Health System (dba Alameda County Medical Center) | F6: Road to Recovery 7677 Oakport Street, 12th Floor | G6: Oakland | H6: California | I6: 94621 | J6: (510) 618-5706 | K6: Level 1: Outpatient Level 2: Intensive Outpatient/High-Intensity Outpatient | L6: Pregnant women Women with dependent children Persons experiencing homelessness Persons who inject drugs Persons in need of recovery support services for substance use disorder Individuals with a co-occurring mental health and substance use disorder
C7: 2 | D7: Outpatient and Residential Substance Use Treatment Programs and Recovery Residences | E7: Bi Bett Corporation | F7: Diablo Valley Ranch (DVR) 11540 Marsh Creek | G7: Clayton | H7: California | I7: 94517 | J7: (925) 672-5700 | K7: Level 3: Residential | L7: Persons experiencing homelessness Persons who inject drugs Persons in need of recovery support services for substance use disorder Individuals with a co-occurring mental health and substance use disorder
C8: 3 | D8: Outpatient and Residential Substance Use Treatment Programs and Recovery Residences Perinatal Adult Substance Use Treatment Programs | E8: Bi-Bett Corporation | F8: Orchid - Women's Residential Treatment 1342 E. 27th Street | G8: Oakland | H8: California | I8: 94606 | J8: (510) 535-0611 | K8: Level 3: Residential | L8: Pregnant women Women with dependent children Persons experiencing homelessness Persons who inject drugs Persons in need of recovery support services for substance use disorder Individuals with a co-occurring mental health and substance use disorder
C9: 4 | D9: Outpatient and Residential Substance Use Treatment Programs and Recovery Residences | E9: Carnales Unidos Reformando Adictos (C.U.R.A.) Incorporate | F9: Recovery Residence 531 24th Street | G9: Oakland | H9: California | I9: 94612 | J9: (510) 706-6177 | K9: Recovery Residence | L9: Persons experiencing homelessness Persons who inject drugs Persons in need of recovery support services for substance use disorder Individuals with a co-occurring mental health and substance use disorder
C10: 5 | D10: Outpatient and Residential Substance Use Treatment Programs and Recovery Residences | E10: Carnales Unidos Reformando Adictos (C.U.R.A.) Incorporate | F10: Residential Treatment Services 7437 Glenmoor Drive | G10: Fremont | H10: California | I10: 94536 | J10: (510) 713-3200 | K10: Level 3: Residential | L10: Persons experiencing homelessness Persons who inject drugs Persons in need of recovery support services for substance use disorder Individuals with a co-occurring mental health and substance use disorder
C11: 6 | D11: Outpatient and Residential Substance Use Treatment Programs and Recovery Residences Adolescent & Youth Substance Use Treatment Programs | E11: City of Fremont | F11: Youth and Family Services 39155 Liberty St, #E500 | G11: Fremont | H11: California | I11: 94538 | J11: (510) 284-4002 | K11: Level 1: Outpatient Level 2: Intensive Outpatient/High-Intensity Outpatient | L11: Persons experiencing homelessness Persons who inject drugs Persons in need of recovery support services for substance use disorder Individuals with a co-occurring mental health and substance use disorder
C12: 7 | D12: Outpatient and Residential Substance Use Treatment Programs and Recovery Residences | E12: Horizon Services Incorporated | F12: Cherry Hill SUD Detoxification Services 2035 Fairmont Drive | G12: San Leandro | H12: California | I12: 94578 | J12: (866) 866-7496 | K12: Other: Residential Detox | L12: Pregnant women Women with dependent children Persons experiencing homelessness Persons who inject drugs Persons in need of recovery support services for substance use disorder Individuals with a co-occurring mental health and substance use disorder
C13: 8 | D13: Outpatient and Residential Substance Use Treatment Programs and Recovery Residences | E13: Horizon Services Incorporated | F13: Cronin House 2575 Depot Road | G13: Hayward | H13: California | I13: 94545 | J13: (510) 784-5874 | K13: Level 3: Residential | L13: Persons experiencing homelessness Persons who inject drugs Persons in need of recovery support services for substance use disorder Individuals with a co-occurring mental health and substance use disorder
C14: 9 | D14: Adolescent & Youth Substance Use Treatment Programs | E14: Horizon Services Incorporated | F14: Project Eden Adolescent Services 1866 B Street, Suite 101 | G14: Hayward | H14: California | I14: 94541 | J14: (510) 582-2100 | K14: Level 1: Outpatient Level 2: Intensive Outpatient/High-Intensity Outpatient | L14: Persons experiencing homelessness Persons who inject drugs Persons in need of recovery support services for substance use disorder Individuals with a co-occurring mental health and substance use disorder
C15: 10 | D15: Outpatient and Residential Substance Use Treatment Programs and Recovery Residences | E15: Horizon Services Incorporated | F15: Project Eden Adult Services 1020 Serpentine Lane, Suites 100 and 102 | G15: Pleasanton | H15: California | I15: 94566 | J15: (925) 444-7040 | K15: Level 1: Outpatient Level 2: Intensive Outpatient/High-Intensity Outpatient | L15: Pregnant women Women with dependent children Persons experiencing homelessness Persons who inject drugs Persons in need of recovery support services for substance use disorder Individuals with a co-occurring mental health and substance use disorder
C16: 11 | D16: Outpatient and Residential Substance Use Treatment Programs and Recovery Residences Perinatal Adult Substance Use Treatment Programs | E16: LifeLong Medical Care | F16: Project Pride 2545 San Pablo Avenue | G16: Oakland | H16: California | I16: 94612 | J16: (510) 981-4100 | K16: Level 3: Residential | L16: Pregnant women Women with dependent children Persons experiencing homelessness Persons who inject drugs Persons in need of recovery support services for substance use disorder Individuals with a co-occurring mental health and substance use disorder
C17: 12 | D17: Outpatient and Residential Substance Use Treatment Programs and Recovery Residences Perinatal Adult Substance Use Treatment Programs | E17: Magnolia Women's Recovery Programs, Inc. | F17: 682 Briergate Way | G17: Hayward | H17: California | I17: 94544 | J17: (510) 487-2910 | K17: Level 3: Residential | L17: Pregnant women Women with dependent children Persons experiencing homelessness Persons who inject drugs Persons in need of recovery support services for substance use disorder Individuals with a co-occurring mental health and substance use disorder
C18: 13 | D18: Outpatient and Residential Substance Use Treatment Programs and Recovery Residences Perinatal Adult Substance Use Treatment Programs | E18: Magnolia Women's Recovery Programs, Inc. | F18: 17 Embarcadero Cove | G18: Oakland | H18: California | I18: 94606 | J18: (510) 535-1344 | K18: Level 3: Residential | L18: Pregnant women Women with dependent children Persons experiencing homelessness Persons who inject drugs Persons in need of recovery support services for substance use disorder Individuals with a co-occurring mental health and substance use disorder
... C40: 35 | D40: Outpatient and Residential Substance Use Treatment Programs and Recovery Residences | E40: The New Bridge Foundation, Inc. | F40: 2323 Hearst Avenue | G40: Berkeley | H40: California | I40: 94709 | J40: (510) 526-6200 | K40: Level 3: Residential | L40: Persons experiencing homelessness Persons who inject drugs Persons in need of recovery support services for substance use disorder Individuals with a co-occurring mental health and substance use disorder
C41: 36
C42: 37
C43: 38
C44: 39
C45: 40
C46: 41
C47: 42
C48: 43
C49: 44
C50: 45
C51: 46
C52: 47
... C215: 210

Sheet Program 1
C1: State of California - Health and Human Services Agency | E1: Department of Health Care Services
C2: Substance Use Prevention, Treatment, and Recovery Services Block Grant (SUBG)
C4: DETAILED PROGRAM BUDGET
C6: Type of Grant | D6: Substance Use Prevention, Treatment, and Recovery Services Block Grant | E6: SFY | G6: SFY 2026-27
C7: County | D7: Alameda | E7: Submission Date | G7: 46232
C8: Current ICR | D8: 0.1 | E8: Total SUBG Allocation | G8: =+'Allocation Sheet'!D14 -> 6835082
C10: Program Information
C11: Program Name | D11: Adolescent & Youth Substance Use Treatment Programs
C12: Fiscal Contact | D12: Melissa Wong | E12: Phone | F12: 5106391307
C13: Email Address | D13: Melissa.Wong@acgov.org
C14: Program Contact | D14: Melissa Yamamoto | E14: Phone | F14: 5103838532
C15: Email Address | D15: Melissa.Yamamoto@acgov.org
C17: Funding Source
C18: Discretionary | G18: 0
C19: Perinatal | G19: 0
C20: Adolescent/Youth | G20: 412130
C21: Total Planned Allocation for Program: | G21: 412130
C23: DHCS Approval (For DHCS Staff Only)
C24: Analyst | E24: Date Approved
C26: I. Staffing Itemized Detail
C27: Title of Position (Align with County/Provider IUP) | E27: Annual Salary | F27: Grant FTE | G27: TotaI Not to Exceed
B29: 1 | C29: Personnel
B30: 2 | E30: 0 | F30: 0 | G30: 0
B31: 3 | E31: 0 | F31: 0 | G31: 0
B32: 4 | E32: 0 | F32: 0 | G32: 0
B33: 5 | E33: 0 | F33: 0 | G33: 0
B34: 6 | E34: 0 | F34: 0 | G34: 0
B35: 7 | E35: 0 | F35: 0 | G35: 0
B36: 8 | E36: 0 | F36: 0 | G36: 0
B37: 9 | E37: 0 | F37: 0 | G37: 0
B38: 10 | E38: 0 | F38: 0 | G38: 0
B39: 11 | E39: 0 | F39: 0 | G39: 0
B40: 12 | E40: 0 | F40: 0 | G40: 0
B41: 13 | E41: 0 | F41: 0 | G41: 0
... B58: 30 | E58: 0 | F58: 0 | G58: 0
B59: 31 | C59: Fringe Benefits | G59: 0
C60: TOTAL STAFF EXPENSES | G60: 0
C62: II. Program Expenses Itemized Detail
C63: Category | D63: Details | G63: Amount
B65: 32 | C65: Travel
...

Sheet Program 2
C1: State of California - Health and Human Services Agency | E1: Department of Health Care Services
C2: Substance Use Prevention, Treatment, and Recovery Services Block Grant (SUBG)
C4: DETAILED PROGRAM BUDGET
C6: Type of Grant | D6: Substance Use Prevention, Treatment, and Recovery Services Block Grant | E6: SFY | G6: ='Allocation Sheet'!D10 -> SFY 2026-27
C7: County | D7: =_xlfn.LET(_xlpm.x,INDEX('Allocation Sheet'!C7:E7,1),IF(_xlpm.x="","",_xlpm.x)) -> Alameda | E7: Submission Date | G7: 46232
C8: Current ICR | D8: ='Allocation Sheet'!C8 -> 0.1 | E8: Total SUBG Allocation | G8: ='Allocation Sheet'!D14 -> 6835082
C10: Program Information
C11: Program Name | D11: Outpatient and Residential Substance Use Treatment Programs and Recovery Residences
C12: Fiscal Contact | D12: Melissa Wong | E12: Phone | F12: 5106391307
C13: Email Address | D13: Melissa.Wong@acgov.org
C14: Program Contact | D14: Melissa Yamamoto | E14: Phone | F14: 5103838532
C15: Email Address | D15: Melissa.Yamamoto@acgov.org
C17: Funding Source
C18: Discretionary | G18: 4890254
C19: Perinatal | G19: 0
C20: Adolescent/Youth | G20: 0
C21: Total Planned Allocation for Program: | G21: =SUM(G18:G20) -> 4890254
C23: DHCS Approval (For DHCS Staff Only)
C24: Analyst | E24: Date Approved
C26: I. Staffing Itemized Detail
C27: Title of Position (Align with County/Provider IUP) | E27: Annual Salary | F27: Grant FTE | G27: TotaI Not to Exceed
B29: 1 | C29: Personnel
B30: 2 | E30: 0 | F30: 0 | G30: =E30*F30 -> 0
B31: 3 | E31: 0 | F31: 0 | G31: =E31*F31 -> 0
B32: 4 | E32: 0 | F32: 0 | G32: =E32*F32 -> 0
B33: 5 | E33: 0 | F33: 0 | G33: =E33*F33 -> 0
B34: 6 | E34: 0 | F34: 0 | G34: =E34*F34 -> 0
B35: 7 | E35: 0 | F35: 0 | G35: =E35*F35 -> 0
B36: 8 | E36: 0 | F36: 0 | G36: =E36*F36 -> 0
B37: 9 | E37: 0 | F37: 0 | G37: =E37*F37 -> 0
B38: 10 | E38: 0 | F38: 0 | G38: =E38*F38 -> 0
B39: 11 | E39: 0 | F39: 0 | G39: =E39*F39 -> 0
B40: 12 | E40: 0 | F40: 0 | G40: =E40*F40 -> 0
B41: 13 | E41: 0 | F41: 0 | G41: =E41*F41 -> 0
... B58: 30 | E58: 0 | F58: 0 | G58: =E58*F58 -> 0
B59: 31 | C59: Fringe Benefits | G59: 0
C60: TOTAL STAFF EXPENSES | G60: =SUM(G30:G59) -> 0
C62: II. Program Expenses Itemized Detail
C63: Category | D63: Details | G63: Amount
B65: 32 | C65: Travel
...

Sheet Program 3
C1: State of California - Health and Human Services Agency | E1: Department of Health Care Services
C2: Substance Use Prevention, Treatment, and Recovery Services Block Grant (SUBG)
C4: DETAILED PROGRAM BUDGET
C6: Type of Grant | D6: Substance Use Prevention, Treatment, and Recovery Services Block Grant | E6: SFY | G6: ='Allocation Sheet'!D10 -> SFY 2026-27
C7: County | D7: =_xlfn.LET(_xlpm.x,INDEX('Allocation Sheet'!C7:E7,1),IF(_xlpm.x="","",_xlpm.x)) -> Alameda | E7: Submission Date | G7: 46232
C8: Current ICR | D8: ='Allocation Sheet'!C8 -> 0.1 | E8: Total SUBG Allocation | G8: ='Allocation Sheet'!D14 -> 6835082
C10: Program Information
C11: Program Name | D11: Perinatal Adult Substance Use Treatment Programs
C12: Fiscal Contact | D12: Melissa Wong | E12: Phone | F12: 5106391307
C13: Email Address | D13: Melissa.Wong@acgov.org
C14: Program Contact | D14: Melissa Yamamoto | E14: Phone | F14: 5103838532
C15: Email Address | D15: Melissa.Yamamoto@acgov.org
C17: Funding Source
C18: Discretionary | G18: 0
C19: Perinatal | G19: 1532698
C20: Adolescent/Youth | G20: 0
C21: Total Planned Allocation for Program: | G21: =SUM(G18:G20) -> 1532698
C23: DHCS Approval (For DHCS Staff Only)
C24: Analyst | E24: Date Approved
C26: I. Staffing Itemized Detail
C27: Title of Position (Align with County/Provider IUP) | E27: Annual Salary | F27: Grant FTE | G27: TotaI Not to Exceed
B29: 1 | C29: Personnel
B30: 2 | E30: 0 | F30: 0 | G30: =E30*F30 -> 0
B31: 3 | E31: 0 | F31: 0 | G31: =E31*F31 -> 0
B32: 4 | E32: 0 | F32: 0 | G32: =E32*F32 -> 0
B33: 5 | E33: 0 | F33: 0 | G33: =E33*F33 -> 0
B34: 6 | E34: 0 | F34: 0 | G34: =E34*F34 -> 0
B35: 7 | E35: 0 | F35: 0 | G35: =E35*F35 -> 0
B36: 8 | E36: 0 | F36: 0 | G36: =E36*F36 -> 0
B37: 9 | E37: 0 | F37: 0 | G37: =E37*F37 -> 0
B38: 10 | E38: 0 | F38: 0 | G38: =E38*F38 -> 0
B39: 11 | E39: 0 | F39: 0 | G39: =E39*F39 -> 0
B40: 12 | E40: 0 | F40: 0 | G40: =E40*F40 -> 0
B41: 13 | E41: 0 | F41: 0 | G41: =E41*F41 -> 0
... B58: 30 | E58: 0 | F58: 0 | G58: =E58*F58 -> 0
B59: 31 | C59: Fringe Benefits | G59: 0
C60: TOTAL STAFF EXPENSES | G60: =SUM(G30:G59) -> 0
C62: II. Program Expenses Itemized Detail
C63: Category | D63: Details | G63: Amount
B65: 32 | C65: Travel
...

Sheet Program 4
C1: State of California - Health and Human Services Agency | E1: Department of Health Care Services
C2: Substance Use Prevention, Treatment, and Recovery Services Block Grant (SUBG)
C4: DETAILED PROGRAM BUDGET
C6: Type of Grant | D6: Substance Use Prevention, Treatment, and Recovery Services Block Grant | E6: SFY | G6: ='Allocation Sheet'!D10 -> SFY 2026-27
C7: County | D7: =_xlfn.LET(_xlpm.x,INDEX('Allocation Sheet'!C7:E7,1),IF(_xlpm.x="","",_xlpm.x)) -> Alameda | E7: Submission Date
C8: Current ICR | D8: ='Allocation Sheet'!C8 -> 0.1 | E8: Total SUBG Allocation | G8: ='Allocation Sheet'!D14 -> 6835082
C10: Program Information
C11: Program Name
C12: Fiscal Contact | E12: Phone
C13: Email Address
C14: Program Contact | E14: Phone
C15: Email Address
C17: Funding Source
C18: Discretionary | G18: 0
C19: Perinatal | G19: 0
C20: Adolescent/Youth | G20: 0
C21: Total Planned Allocation for Program: | G21: =SUM(G18:G20) -> 0
C23: DHCS Approval (For DHCS Staff Only)
C24: Analyst | E24: Date Approved
C26: I. Staffing Itemized Detail
C27: Title of Position (Align with County/Provider IUP) | E27: Annual Salary | F27: Grant FTE | G27: TotaI Not to Exceed
B29: 1 | C29: Personnel
B30: 2 | E30: 0 | F30: 0 | G30: =E30*F30 -> 0
B31: 3 | E31: 0 | F31: 0 | G31: =E31*F31 -> 0
B32: 4 | E32: 0 | F32: 0 | G32: =E32*F32 -> 0
B33: 5 | E33: 0 | F33: 0 | G33: =E33*F33 -> 0
B34: 6 | E34: 0 | F34: 0 | G34: =E34*F34 -> 0
B35: 7 | E35: 0 | F35: 0 | G35: =E35*F35 -> 0
B36: 8 | E36: 0 | F36: 0 | G36: =E36*F36 -> 0
B37: 9 | E37: 0 | F37: 0 | G37: =E37*F37 -> 0
B38: 10 | E38: 0 | F38: 0 | G38: =E38*F38 -> 0
B39: 11 | E39: 0 | F39: 0 | G39: =E39*F39 -> 0
B40: 12 | E40: 0 | F40: 0 | G40: =E40*F40 -> 0
B41: 13 | E41: 0 | F41: 0 | G41: =E41*F41 -> 0
... B58: 30 | E58: 0 | F58: 0 | G58: =E58*F58 -> 0
B59: 31 | C59: Fringe Benefits | G59: 0
C60: TOTAL STAFF EXPENSES | G60: =SUM(G30:G59) -> 0
C62: II. Program Expenses Itemized Detail
C63: Category | D63: Details | G63: Amount
B65: 32 | C65: Travel
...

Sheet Program 5
C1: State of California - Health and Human Services Agency | E1: Department of Health Care Services
C2: Substance Use Prevention, Treatment, and Recovery Services Block Grant (SUBG)
C4: DETAILED PROGRAM BUDGET
C6: Type of Grant | D6: Substance Use Prevention, Treatment, and Recovery Services Block Grant | E6: SFY | G6: ='Allocation Sheet'!D10 -> SFY 2026-27
C7: County | D7: =_xlfn.LET(_xlpm.x,INDEX('Allocation Sheet'!C7:E7,1),IF(_xlpm.x="","",_xlpm.x)) -> Alameda | E7: Submission Date
C8: Current ICR | D8: ='Allocation Sheet'!C8 -> 0.1 | E8: Total SUBG Allocation | G8: ='Allocation Sheet'!D14 -> 6835082
C10: Program Information
C11: Program Name
C12: Fiscal Contact | E12: Phone
C13: Email Address
C14: Program Contact | E14: Phone
C15: Email Address
C17: Funding Source
C18: Discretionary | G18: 0
C19: Perinatal | G19: 0
C20: Adolescent/Youth | G20: 0
C21: Total Planned Allocation for Program: | G21: =SUM(G18:G20) -> 0
C23: DHCS Approval (For DHCS Staff Only)
C24: Analyst | E24: Date Approved
C26: I. Staffing Itemized Detail
C27: Title of Position (Align with County/Provider IUP) | E27: Annual Salary | F27: Grant FTE | G27: TotaI Not to Exceed
B29: 1 | C29: Personnel
B30: 2 | E30: 0 | F30: 0 | G30: =E30*F30 -> 0
B31: 3 | E31: 0 | F31: 0 | G31: =E31*F31 -> 0
B32: 4 | E32: 0 | F32: 0 | G32: =E32*F32 -> 0
B33: 5 | E33: 0 | F33: 0 | G33: =E33*F33 -> 0
B34: 6 | E34: 0 | F34: 0 | G34: =E34*F34 -> 0
B35: 7 | E35: 0 | F35: 0 | G35: =E35*F35 -> 0
B36: 8 | E36: 0 | F36: 0 | G36: =E36*F36 -> 0
B37: 9 | E37: 0 | F37: 0 | G37: =E37*F37 -> 0
B38: 10 | E38: 0 | F38: 0 | G38: =E38*F38 -> 0
B39: 11 | E39: 0 | F39: 0 | G39: =E39*F39 -> 0
B40: 12 | E40: 0 | F40: 0 | G40: =E40*F40 -> 0
B41: 13 | E41: 0 | F41: 0 | G41: =E41*F41 -> 0
... B58: 30 | E58: 0 | F58: 0 | G58: =E58*F58 -> 0
B59: 31 | C59: Fringe Benefits | G59: 0
C60: TOTAL STAFF EXPENSES | G60: =SUM(G30:G59) -> 0
C62: II. Program Expenses Itemized Detail
C63: Category | D63: Details | G63: Amount
B65: 32 | C65: Travel
...

Sheet Program 6
C1: State of California - Health and Human Services Agency | E1: Department of Health Care Services
C2: Substance Use Prevention, Treatment, and Recovery Services Block Grant (SUBG)
C4: DETAILED PROGRAM BUDGET
C6: Type of Grant | D6: Substance Use Prevention, Treatment, and Recovery Services Block Grant | E6: SFY | G6: ='Allocation Sheet'!D10 -> SFY 2026-27
C7: County | D7: =_xlfn.LET(_xlpm.x,INDEX('Allocation Sheet'!C7:E7,1),IF(_xlpm.x="","",_xlpm.x)) -> Alameda | E7: Submission Date
C8: Current ICR | D8: ='Allocation Sheet'!C8 -> 0.1 | E8: Total SUBG Allocation | G8: ='Allocation Sheet'!D14 -> 6835082
C10: Program Information
C11: Program Name
C12: Fiscal Contact | E12: Phone
C13: Email Address
C14: Program Contact | E14: Phone
C15: Email Address
C17: Funding Source
C18: Discretionary | G18: 0
C19: Perinatal | G19: 0
C20: Adolescent/Youth | G20: 0
C21: Total Planned Allocation for Program: | G21: =SUM(G18:G20) -> 0
C23: DHCS Approval (For DHCS Staff Only)
C24: Analyst | E24: Date Approved
C26: I. Staffing Itemized Detail
C27: Title of Position (Align with County/Provider IUP) | E27: Annual Salary | F27: Grant FTE | G27: TotaI Not to Exceed
B29: 1 | C29: Personnel
B30: 2 | E30: 0 | F30: 0 | G30: =E30*F30 -> 0
B31: 3 | E31: 0 | F31: 0 | G31: =E31*F31 -> 0
B32: 4 | E32: 0 | F32: 0 | G32: =E32*F32 -> 0
B33: 5 | E33: 0 | F33: 0 | G33: =E33*F33 -> 0
B34: 6 | E34: 0 | F34: 0 | G34: =E34*F34 -> 0
B35: 7 | E35: 0 | F35: 0 | G35: =E35*F35 -> 0
B36: 8 | E36: 0 | F36: 0 | G36: =E36*F36 -> 0
B37: 9 | E37: 0 | F37: 0 | G37: =E37*F37 -> 0
B38: 10 | E38: 0 | F38: 0 | G38: =E38*F38 -> 0
B39: 11 | E39: 0 | F39: 0 | G39: =E39*F39 -> 0
B40: 12 | E40: 0 | F40: 0 | G40: =E40*F40 -> 0
B41: 13 | E41: 0 | F41: 0 | G41: =E41*F41 -> 0
... B58: 30 | E58: 0 | F58: 0 | G58: =E58*F58 -> 0
B59: 31 | C59: Fringe Benefits | G59: 0
C60: TOTAL STAFF EXPENSES | G60: =SUM(G30:G59) -> 0
C62: II. Program Expenses Itemized Detail
C63: Category | D63: Details | G63: Amount
B65: 32 | C65: Travel
...

Sheet Program 7
C1: State of California - Health and Human Services Agency | E1: Department of Health Care Services
C2: Substance Use Prevention, Treatment, and Recovery Services Block Grant (SUBG)
C4: DETAILED PROGRAM BUDGET
C6: Type of Grant | D6: Substance Use Prevention, Treatment, and Recovery Services Block Grant | E6: SFY | G6: ='Allocation Sheet'!D10 -> SFY 2026-27
C7: County | D7: =_xlfn.LET(_xlpm.x,INDEX('Allocation Sheet'!C7:E7,1),IF(_xlpm.x="","",_xlpm.x)) -> Alameda | E7: Submission Date
C8: Current ICR | D8: ='Allocation Sheet'!C8 -> 0.1 | E8: Total SUBG Allocation | G8: ='Allocation Sheet'!D14 -> 6835082
C10: Program Information
C11: Program Name
C12: Fiscal Contact | E12: Phone
C13: Email Address
C14: Program Contact | E14: Phone
C15: Email Address
C17: Funding Source
C18: Discretionary | G18: 0
C19: Perinatal | G19: 0
C20: Adolescent/Youth | G20: 0
C21: Total Planned Allocation for Program: | G21: =SUM(G18:G20) -> 0
C23: DHCS Approval (For DHCS Staff Only)
C24: Analyst | E24: Date Approved
C26: I. Staffing Itemized Detail
C27: Title of Position (Align with County/Provider IUP) | E27: Annual Salary | F27: Grant FTE | G27: TotaI Not to Exceed
B29: 1 | C29: Personnel
B30: 2 | E30: 0 | F30: 0 | G30: =E30*F30 -> 0
B31: 3 | E31: 0 | F31: 0 | G31: =E31*F31 -> 0
B32: 4 | E32: 0 | F32: 0 | G32: =E32*F32 -> 0
B33: 5 | E33: 0 | F33: 0 | G33: =E33*F33 -> 0
B34: 6 | E34: 0 | F34: 0 | G34: =E34*F34 -> 0
B35: 7 | E35: 0 | F35: 0 | G35: =E35*F35 -> 0
B36: 8 | E36: 0 | F36: 0 | G36: =E36*F36 -> 0
B37: 9 | E37: 0 | F37: 0 | G37: =E37*F37 -> 0
B38: 10 | E38: 0 | F38: 0 | G38: =E38*F38 -> 0
B39: 11 | E39: 0 | F39: 0 | G39: =E39*F39 -> 0
B40: 12 | E40: 0 | F40: 0 | G40: =E40*F40 -> 0
B41: 13 | E41: 0 | F41: 0 | G41: =E41*F41 -> 0
... B58: 30 | E58: 0 | F58: 0 | G58: =E58*F58 -> 0
B59: 31 | C59: Fringe Benefits | G59: 0
C60: TOTAL STAFF EXPENSES | G60: =SUM(G30:G59) -> 0
C62: II. Program Expenses Itemized Detail
C63: Category | D63: Details | G63: Amount
B65: 32 | C65: Travel
...

Sheet Program 8
C1: State of California - Health and Human Services Agency | E1: Department of Health Care Services
C2: Substance Use Prevention, Treatment, and Recovery Services Block Grant (SUBG)
C4: DETAILED PROGRAM BUDGET
C6: Type of Grant | D6: Substance Use Prevention, Treatment, and Recovery Services Block Grant | E6: SFY | G6: ='Allocation Sheet'!D10 -> SFY 2026-27
C7: County | D7: =_xlfn.LET(_xlpm.x,INDEX('Allocation Sheet'!C7:E7,1),IF(_xlpm.x="","",_xlpm.x)) -> Alameda | E7: Submission Date
C8: Current ICR | D8: ='Allocation Sheet'!C8 -> 0.1 | E8: Total SUBG Allocation | G8: ='Allocation Sheet'!D14 -> 6835082
C10: Program Information
C11: Program Name
C12: Fiscal Contact | E12: Phone
C13: Email Address
C14: Program Contact | E14: Phone
C15: Email Address
C17: Funding Source
C18: Discretionary | G18: 0
C19: Perinatal | G19: 0
C20: Adolescent/Youth | G20: 0
C21: Total Planned Allocation for Program: | G21: =SUM(G18:G20) -> 0
C23: DHCS Approval (For DHCS Staff Only)
C24: Analyst | E24: Date Approved
C26: I. Staffing Itemized Detail
C27: Title of Position (Align with County/Provider IUP) | E27: Annual Salary | F27: Grant FTE | G27: TotaI Not to Exceed
B29: 1 | C29: Personnel
B30: 2 | E30: 0 | F30: 0 | G30: =E30*F30 -> 0
B31: 3 | E31: 0 | F31: 0 | G31: =E31*F31 -> 0
B32: 4 | E32: 0 | F32: 0 | G32: =E32*F32 -> 0
B33: 5 | E33: 0 | F33: 0 | G33: =E33*F33 -> 0
B34: 6 | E34: 0 | F34: 0 | G34: =E34*F34 -> 0
B35: 7 | E35: 0 | F35: 0 | G35: =E35*F35 -> 0
B36: 8 | E36: 0 | F36: 0 | G36: =E36*F36 -> 0
B37: 9 | E37: 0 | F37: 0 | G37: =E37*F37 -> 0
B38: 10 | E38: 0 | F38: 0 | G38: =E38*F38 -> 0
B39: 11 | E39: 0 | F39: 0 | G39: =E39*F39 -> 0
B40: 12 | E40: 0 | F40: 0 | G40: =E40*F40 -> 0
B41: 13 | E41: 0 | F41: 0 | G41: =E41*F41 -> 0
... B58: 30 | E58: 0 | F58: 0 | G58: =E58*F58 -> 0
B59: 31 | C59: Fringe Benefits | G59: 0
C60: TOTAL STAFF EXPENSES | G60: =SUM(G30:G59) -> 0
C62: II. Program Expenses Itemized Detail
C63: Category | D63: Details | G63: Amount
B65: 32 | C65: Travel
...

Sheet Program 9
C1: State of California - Health and Human Services Agency | E1: Department of Health Care Services
C2: Substance Use Prevention, Treatment, and Recovery Services Block Grant (SUBG)
C4: DETAILED PROGRAM BUDGET
C6: Type of Grant | D6: Substance Use Prevention, Treatment, and Recovery Services Block Grant | E6: SFY | G6: ='Allocation Sheet'!D10 -> SFY 2026-27
C7: County | D7: =_xlfn.LET(_xlpm.x,INDEX('Allocation Sheet'!C7:E7,1),IF(_xlpm.x="","",_xlpm.x)) -> Alameda | E7: Submission Date
C8: Current ICR | D8: ='Allocation Sheet'!C8 -> 0.1 | E8: Total SUBG Allocation | G8: ='Allocation Sheet'!D14 -> 6835082
C10: Program Information
C11: Program Name
C12: Fiscal Contact | E12: Phone
C13: Email Address
C14: Program Contact | E14: Phone
C15: Email Address
C17: Funding Source
C18: Discretionary | G18: 0
C19: Perinatal | G19: 0
C20: Adolescent/Youth | G20: 0
C21: Total Planned Allocation for Program: | G21: =SUM(G18:G20) -> 0
C23: DHCS Approval (For DHCS Staff Only)
C24: Analyst | E24: Date Approved
C26: I. Staffing Itemized Detail
C27: Title of Position (Align with County/Provider IUP) | E27: Annual Salary | F27: Grant FTE | G27: TotaI Not to Exceed
B29: 1 | C29: Personnel
B30: 2 | E30: 0 | F30: 0 | G30: =E30*F30 -> 0
B31: 3 | E31: 0 | F31: 0 | G31: =E31*F31 -> 0
B32: 4 | E32: 0 | F32: 0 | G32: =E32*F32 -> 0
B33: 5 | E33: 0 | F33: 0 | G33: =E33*F33 -> 0
B34: 6 | E34: 0 | F34: 0 | G34: =E34*F34 -> 0
B35: 7 | E35: 0 | F35: 0 | G35: =E35*F35 -> 0
B36: 8 | E36: 0 | F36: 0 | G36: =E36*F36 -> 0
B37: 9 | E37: 0 | F37: 0 | G37: =E37*F37 -> 0
B38: 10 | E38: 0 | F38: 0 | G38: =E38*F38 -> 0
B39: 11 | E39: 0 | F39: 0 | G39: =E39*F39 -> 0
B40: 12 | E40: 0 | F40: 0 | G40: =E40*F40 -> 0
B41: 13 | E41: 0 | F41: 0 | G41: =E41*F41 -> 0
... B58: 30 | E58: 0 | F58: 0 | G58: =E58*F58 -> 0
B59: 31 | C59: Fringe Benefits | G59: 0
C60: TOTAL STAFF EXPENSES | G60: =SUM(G30:G59) -> 0
C62: II. Program Expenses Itemized Detail
C63: Category | D63: Details | G63: Amount
B65: 32 | C65: Travel
...

Sheet Program 10
C1: State of California - Health and Human Services Agency | E1: Department of Health Care Services
C2: Substance Use Prevention, Treatment, and Recovery Services Block Grant (SUBG)
C4: DETAILED PROGRAM BUDGET
C6: Type of Grant | D6: Substance Use Prevention, Treatment, and Recovery Services Block Grant | E6: SFY | G6: ='Allocation Sheet'!D10 -> SFY 2026-27
C7: County | D7: =_xlfn.LET(_xlpm.x,INDEX('Allocation Sheet'!C7:E7,1),IF(_xlpm.x="","",_xlpm.x)) -> Alameda | E7: Submission Date
C8: Current ICR | D8: ='Allocation Sheet'!C8 -> 0.1 | E8: Total SUBG Allocation | G8: ='Allocation Sheet'!D14 -> 6835082
C10: Program Information
C11: Program Name
C12: Fiscal Contact | E12: Phone
C13: Email Address
C14: Program Contact | E14: Phone
C15: Email Address
C17: Funding Source
C18: Discretionary | G18: 0
C19: Perinatal | G19: 0
C20: Adolescent/Youth | G20: 0
C21: Total Planned Allocation for Program: | G21: =SUM(G18:G20) -> 0
C23: DHCS Approval (For DHCS Staff Only)
C24: Analyst | E24: Date Approved
C26: I. Staffing Itemized Detail
C27: Title of Position (Align with County/Provider IUP) | E27: Annual Salary | F27: Grant FTE | G27: TotaI Not to Exceed
B29: 1 | C29: Personnel
B30: 2 | E30: 0 | F30: 0 | G30: =E30*F30 -> 0
B31: 3 | E31: 0 | F31: 0 | G31: =E31*F31 -> 0
B32: 4 | E32: 0 | F32: 0 | G32: =E32*F32 -> 0
B33: 5 | E33: 0 | F33: 0 | G33: =E33*F33 -> 0
B34: 6 | E34: 0 | F34: 1 | G34: =E34*F34 -> 0
B35: 7 | E35: 0 | F35: 0 | G35: =E35*F35 -> 0
B36: 8 | E36: 0 | F36: 0 | G36: =E36*F36 -> 0
B37: 9 | E37: 0 | F37: 0 | G37: =E37*F37 -> 0
B38: 10 | E38: 0 | F38: 0 | G38: =E38*F38 -> 0
B39: 11 | E39: 0 | F39: 0 | G39: =E39*F39 -> 0
B40: 12 | E40: 0 | F40: 0 | G40: =E40*F40 -> 0
B41: 13 | E41: 0 | F41: 0 | G41: =E41*F41 -> 0
... B58: 30 | E58: 0 | F58: 0 | G58: =E58*F58 -> 0
B59: 31 | C59: Fringe Benefits | G59: 0
C60: TOTAL STAFF EXPENSES | G60: =SUM(G30:G59) -> 0
C62: II. Program Expenses Itemized Detail
C63: Category | D63: Details | G63: Amount
B65: 32 | C65: Travel
...

Sheet Program 11
C1: State of California - Health and Human Services Agency | E1: Department of Health Care Services
C2: Substance Use Prevention, Treatment, and Recovery Services Block Grant (SUBG)
C4: DETAILED PROGRAM BUDGET
C6: Type of Grant | D6: Substance Use Prevention, Treatment, and Recovery Services Block Grant | E6: SFY | G6: ='Allocation Sheet'!D10 -> SFY 2026-27
C7: County | D7: =_xlfn.LET(_xlpm.x,INDEX('Allocation Sheet'!C7:E7,1),IF(_xlpm.x="","",_xlpm.x)) -> Alameda | E7: Submission Date
C8: Current ICR | D8: ='Allocation Sheet'!C8 -> 0.1 | E8: Total SUBG Allocation | G8: ='Allocation Sheet'!D14 -> 6835082
C10: Program Information
C11: Program Name
C12: Fiscal Contact | E12: Phone
C13: Email Address
C14: Program Contact | E14: Phone
C15: Email Address
C17: Funding Source
C18: Discretionary | G18: 0
C19: Perinatal | G19: 0
C20: Adolescent/Youth | G20: 0
C21: Total Planned Allocation for Program: | G21: =SUM(G18:G20) -> 0
C23: DHCS Approval (For DHCS Staff Only)
C24: Analyst | E24: Date Approved
C26: I. Staffing Itemized Detail
C27: Title of Position (Align with County/Provider IUP) | E27: Annual Salary | F27: Grant FTE | G27: TotaI Not to Exceed
B29: 1 | C29: Personnel
B30: 2 | E30: 0 | F30: 0 | G30: =E30*F30 -> 0
B31: 3 | E31: 0 | F31: 0 | G31: =E31*F31 -> 0
B32: 4 | E32: 0 | F32: 0 | G32: =E32*F32 -> 0
B33: 5 | E33: 0 | F33: 0 | G33: =E33*F33 -> 0
B34: 6 | E34: 0 | F34: 0 | G34: =E34*F34 -> 0
B35: 7 | E35: 0 | F35: 0 | G35: =E35*F35 -> 0
B36: 8 | E36: 0 | F36: 0 | G36: =E36*F36 -> 0
B37: 9 | E37: 0 | F37: 0 | G37: =E37*F37 -> 0
B38: 10 | E38: 0 | F38: 0 | G38: =E38*F38 -> 0
B39: 11 | E39: 0 | F39: 0 | G39: =E39*F39 -> 0
B40: 12 | E40: 0 | F40: 0 | G40: =E40*F40 -> 0
B41: 13 | E41: 0 | F41: 0 | G41: =E41*F41 -> 0
... B58: 30 | E58: 0 | F58: 0 | G58: =E58*F58 -> 0
B59: 31 | C59: Fringe Benefits | G59: 0
C60: TOTAL STAFF EXPENSES | G60: =SUM(G30:G59) -> 0
C62: II. Program Expenses Itemized Detail
C63: Category | D63: Details | G63: Amount
B65: 32 | C65: Travel
...

Sheet Program 12
C1: State of California - Health and Human Services Agency | E1: Department of Health Care Services
C2: Substance Use Prevention, Treatment, and Recovery Services Block Grant (SUBG)
C4: DETAILED PROGRAM BUDGET
C6: Type of Grant | D6: Substance Use Prevention, Treatment, and Recovery Services Block Grant | E6: SFY | G6: ='Allocation Sheet'!D10 -> SFY 2026-27
C7: County | D7: =_xlfn.LET(_xlpm.x,INDEX('Allocation Sheet'!C7:E7,1),IF(_xlpm.x="","",_xlpm.x)) -> Alameda | E7: Submission Date
C8: Current ICR | D8: ='Allocation Sheet'!C8 -> 0.1 | E8: Total SUBG Allocation | G8: ='Allocation Sheet'!D14 -> 6835082
C10: Program Information
C11: Program Name
C12: Fiscal Contact | E12: Phone
C13: Email Address
C14: Program Contact | E14: Phone
C15: Email Address
C17: Funding Source
C18: Discretionary | G18: 0
C19: Perinatal | G19: 0
C20: Adolescent/Youth | G20: 0
C21: Total Planned Allocation for Program: | G21: =SUM(G18:G20) -> 0
C23: DHCS Approval (For DHCS Staff Only)
C24: Analyst | E24: Date Approved
C26: I. Staffing Itemized Detail
C27: Title of Position (Align with County/Provider IUP) | E27: Annual Salary | F27: Grant FTE | G27: TotaI Not to Exceed
B29: 1 | C29: Personnel
B30: 2 | E30: 0 | F30: 0 | G30: =E30*F30 -> 0
B31: 3 | E31: 0 | F31: 0 | G31: =E31*F31 -> 0
B32: 4 | E32: 0 | F32: 0.5 | G32: =E32*F32 -> 0
B33: 5 | E33: 0 | F33: 0 | G33: =E33*F33 -> 0
B34: 6 | E34: 0 | F34: 0 | G34: =E34*F34 -> 0
B35: 7 | E35: 0 | F35: 0 | G35: =E35*F35 -> 0
B36: 8 | E36: 0 | F36: 0 | G36: =E36*F36 -> 0
B37: 9 | E37: 0 | F37: 0 | G37: =E37*F37 -> 0
B38: 10 | E38: 0 | F38: 0 | G38: =E38*F38 -> 0
B39: 11 | E39: 0 | F39: 0 | G39: =E39*F39 -> 0
B40: 12 | E40: 0 | F40: 0 | G40: =E40*F40 -> 0
B41: 13 | E41: 0 | F41: 0 | G41: =E41*F41 -> 0
... B58: 30 | E58: 0 | F58: 0 | G58: =E58*F58 -> 0
B59: 31 | C59: Fringe Benefits | G59: 0
C60: TOTAL STAFF EXPENSES | G60: =SUM(G30:G59) -> 0
C62: II. Program Expenses Itemized Detail
C63: Category | D63: Details | G63: Amount
B65: 32 | C65: Travel
...

Sheet Summary
A1: State of California - Health and Human Services Agency | E1: Department of Health Care Services
A2: Substance Use Prevention, Treatment, and Recovery Services Block Grant (SUBG) | E2: v1.2026
B4: WORKBOOK SUMMARY SHEET
B6: State Fiscal Year | C6: {='Allocation Sheet'!D10:D10} -> SFY 2026-27
B7: County | C7: =_xlfn.LET(_xlpm.x,INDEX('Allocation Sheet'!C7:E7,1),IF(_xlpm.x="","",_xlpm.x)) -> Alameda
B8: Current ICR | C8: ='Allocation Sheet'!C8 -> 0.1
B10: Allocation | C10: Total Proposed Allocation | D10: Budgeted Amount
B11: Discretionary | C11: {='Allocation Sheet'!D11:D11} -> 4890254 | D11: ='Program 1'!G18+'Program 2'!G18+'Program 3'!G18+'Program 4'!G18+'Program 5'!G18+'Program 6'!G18+'Program 7'!G18+'Program 8'!G18+'Program 9'!G18+'Program 10'!G18+'Program 11'!G18+'Program 12'!G18 -> 4890254
B12: Perinatal | C12: {='Allocation Sheet'!D12:D12} -> 1532698 | D12: ='Program 1'!G19+'Program 2'!G19+'Program 3'!G19+'Program 4'!G19+'Program 5'!G19+'Program 6'!G19+'Program 7'!G19+'Program 8'!G19+'Program 9'!G19+'Program 10'!G19+'Program 11'!G19+'Program 12'!G19 -> 1532698
B13: Adolescent/Youth | C13: {='Allocation Sheet'!D13:D13} -> 412130 | D13: ='Program 1'!G20+'Program 2'!G20+'Program 3'!G20+'Program 4'!G20+'Program 5'!G20+'Program 6'!G20+'Program 7'!G20+'Program 8'!G20+'Program 9'!G20+'Program 10'!G20+'Program 11'!G20+'Program 12'!G20 -> 412130
B14: Total | C14: ='Allocation Sheet'!D14 -> 6835082 | D14: =SUM(D11:D13) -> 6835082
B16: Category | D16: Amount
B17: Staffing Expenses | D17: ='Program 1'!G133+'Program 2'!G133+'Program 3'!G133+'Program 4'!G133+'Program 5'!G133+'Program 6'!G133+'Program 7'!G133+'Program 8'!G133+'Program 9'!G133+'Program 10'!G133+'Program 11'!G133+'Program 12'!G133 -> 0
B18: Travel | D18: ='Program 1'!G134+'Program 2'!G134+'Program 3'!G134+'Program 4'!G134+'Program 5'!G134+'Program 6'!G134+'Program 7'!G134+'Program 8'!G134+'Program 9'!G134+'Program 10'!G134+'Program 11'!G134+'Program 12'!G134 -> 0
B19: Equipment | D19: ='Program 1'!G135+'Program 2'!G135+'Program 3'!G135+'Program 4'!G135+'Program 5'!G135+'Program 6'!G135+'Program 7'!G135+'Program 8'!G135+'Program 9'!G135+'Program 10'!G135+'Program 11'!G135+'Program 12'!G135 -> 0
B20: Supplies | D20: ='Program 1'!G136+'Program 2'!G136+'Program 3'!G136+'Program 4'!G136+'Program 5'!G136+'Program 6'!G136+'Program 7'!G136+'Program 8'!G136+'Program 9'!G136+'Program 10'!G136+'Program 11'!G136+'Program 12'!G136 -> 0
B21: Consultant/Contract Costs | D21: ='Program 1'!G137+'Program 2'!G137+'Program 3'!G137+'Program 4'!G137+'Program 5'!G137+'Program 6'!G137+'Program 7'!G137+'Program 8'!G137+'Program 9'!G137+'Program 10'!G137+'Program 11'!G137+'Program 12'!G137 -> 6437939
B22: Other Expenses | D22: ='Program 1'!G138+'Program 2'!G138+'Program 3'!G138+'Program 4'!G138+'Program 5'!G138+'Program 6'!G138+'Program 7'!G138+'Program 8'!G138+'Program 9'!G138+'Program 10'!G138+'Program 11'!G138+'Program 12'!G138 -> 0
B23: Maximum Allowable Indirect Costs | D23: =SUM(D17:D22)*C8 -> 643793.9
B24: Indirect Costs | D24: ='Program 1'!G140+'Program 2'!G140+'Program 3'!G140+'Program 4'!G140+'Program 5'!G140+'Program 6'!G140+'Program 7'!G140+'Program 8'!G140+'Program 9'!G140+'Program 10'!G140+'Program 11'!G140+'Program 12'!G140 -> 0
B25: Maximum Allowable County Support Administrative Direct Costs | D25: =C14*0.1 -> 683508.2
B26: County Support Administrative Direct Costs | D26: ='Program 1'!G142+'Program 2'!G142+'Program 3'!G142+'Program 4'!G142+'Program 5'!G142+'Program 6'!G142+'Program 7'!G142+'Program 8'!G142+'Program 9'!G142+'Program 10'!G142+'Program 11'!G142+'Program 12'!G142 -> 397143
B27: Total Cost | D27: =SUM(D17:D26)-D23-D25 -> 6835082
